BEGIN:VCALENDAR
VERSION:2.0
PRODID:-//Cristina Andreoli - ECPv6.0.12//NONSGML v1.0//EN
CALSCALE:GREGORIAN
METHOD:PUBLISH
X-WR-CALNAME:Cristina Andreoli
X-ORIGINAL-URL:http://cristina-andreoli.it
X-WR-CALDESC:Eventi per Cristina Andreoli
REFRESH-INTERVAL;VALUE=DURATION:PT1H
X-Robots-Tag:noindex
X-PUBLISHED-TTL:PT1H
BEGIN:VTIMEZONE
TZID:Europe/Rome
BEGIN:DAYLIGHT
TZOFFSETFROM:+0100
TZOFFSETTO:+0200
TZNAME:CEST
DTSTART:20200329T010000
END:DAYLIGHT
BEGIN:STANDARD
TZOFFSETFROM:+0200
TZOFFSETTO:+0100
TZNAME:CET
DTSTART:20201025T010000
END:STANDARD
END:VTIMEZONE
BEGIN:VEVENT
DTSTART;VALUE=DATE:20200416
DTEND;VALUE=DATE:20200417
DTSTAMP:20260419T194225
CREATED:20200414T151207Z
LAST-MODIFIED:20200414T164338Z
UID:1605-1586995200-1587081599@cristina-andreoli.it
SUMMARY:Il Piano Zeta della Tua Attività
DESCRIPTION:Un incontro gratuito ad invito per parlare di #ripartenza o #nuovapartenza
URL:http://cristina-andreoli.it/event/il-piano-zeta-della-tua-attivita/
CATEGORIES:Formazione,Ripartenza o Nuova Partenza
ORGANIZER;CN="Cristina%20Andreoli%20-%20Relazioni%20Professionali":MAILTO:info@cristina-andreoli.it
END:VEVENT
END:VCALENDAR